BEGIN:VCALENDAR
VERSION:2.0
PRODID:-//hacksw/handcal//NONSGML v1.0//EN
BEGIN:VEVENT
SUMMARY:PLANNING GENERAL
UID:f4529289-d33d-4e5d-bd34-35ca1136f096
DTSTART:20260319T230000Z
DTEND:20260606T220000Z
LOCATION:Localisation   
CATEGORIES:Sportif
STATUS:
DESCRIPTION:<p>PLANNING - A TITRE D INFORMATION - VERIFIER LES
 DONNEES</p>
URL;VALUE=URI:https://www.ussmlehavre.com/evenements/2026/03/20/planning-general-2430707
END:VEVENT
END:VCALENDAR
