BEGIN:VCALENDAR
VERSION:2.0
PRODID:-//hacksw/handcal//NONSGML v1.0//EN
BEGIN:VEVENT
SUMMARY:photo plannning semaine
UID:c1c7371d-5b0e-464c-85a3-066b12de5cef
DTSTART:20260329T220000Z
DTEND:20260408T220000Z
LOCATION:Localisation   
CATEGORIES:Sportif
STATUS:
URL;VALUE=URI:https://www.ussmlehavre.com/evenements/2026/03/30/photo-plannning-semaine-2434734
END:VEVENT
END:VCALENDAR
